BEGIN:VCALENDAR
VERSION:2.0
PRODID: -//CMS 5.0 //NONSGML //DE
BEGIN:VEVENT
SUMMARY:Chorprobe Gemeindechor 
DESCRIPTION:\n\nhttps://marienhafe-norden.nak-nordost.de/db/597721
UID:597721@marienhafe-norden.nak-nordost.de
LOCATION:
CATEGORIES:Musikalische Aktivitäten
X-ORGANIZER:
STATUS:CONFIRMED
CLASS:PUBLIC
DTSTART:20260427T173000Z
DTEND:20260427T173000Z
DTSTAMP:20260425T134042Z
CREATED:20260401T183036Z
LAST-MODIFIED:20260401T183119Z
BEGIN:VALARM
UID:5ABCCE80-40AC-11F1-9790-8AD180372A87
TRIGGER:-PT60M
ACTION:DISPLAY
DESCRIPTION:SUMMARY:Chorprobe Gemeindechor 
END:VALARM
END:VEVENT
END:VCALENDAR
